BEGIN:VCALENDAR
VERSION:2.0
PRODID:-//Golfanlage Ullersdorf - ECPv5.10.0//NONSGML v1.0//EN
CALSCALE:GREGORIAN
METHOD:PUBLISH
X-WR-CALNAME:Golfanlage Ullersdorf
X-ORIGINAL-URL:https://www.golfanlage-ullersdorf.de
X-WR-CALDESC:Veranstaltungen für Golfanlage Ullersdorf
BEGIN:VTIMEZONE
TZID:Europe/Berlin
BEGIN:DAYLIGHT
TZOFFSETFROM:+0100
TZOFFSETTO:+0200
TZNAME:CEST
DTSTART:20260329T010000
END:DAYLIGHT
BEGIN:STANDARD
TZOFFSETFROM:+0200
TZOFFSETTO:+0100
TZNAME:CET
DTSTART:20261025T010000
END:STANDARD
END:VTIMEZONE
BEGIN:VEVENT
DTSTART;VALUE=DATE:20260801
DTEND;VALUE=DATE:20260802
DTSTAMP:20260425T153308
CREATED:20251209T100759Z
LAST-MODIFIED:20251209T100759Z
UID:15564-1785542400-1785628799@www.golfanlage-ullersdorf.de
SUMMARY:Allianz Golf Cup powered by Bergk & Bergk 2.0
DESCRIPTION:Allianz Bergk & Bergk GolfCup 01.08.2026
URL:https://www.golfanlage-ullersdorf.de/event/allianz-golf-cup-powered-by-bergk-bergk-2-0/
CATEGORIES:Turniere
END:VEVENT
BEGIN:VEVENT
DTSTART;TZID=Europe/Berlin:20260803T173000
DTEND;TZID=Europe/Berlin:20260803T193000
DTSTAMP:20260425T153308
CREATED:20251209T101011Z
LAST-MODIFIED:20251209T101025Z
UID:15567-1785778200-1785785400@www.golfanlage-ullersdorf.de
SUMMARY:Sundowner powered by Signal Iduna
DESCRIPTION:Sundowner 03.08.2026
URL:https://www.golfanlage-ullersdorf.de/event/sundowner-powered-by-signal-iduna-4/
CATEGORIES:Turniere
END:VEVENT
BEGIN:VEVENT
DTSTART;VALUE=DATE:20260812
DTEND;VALUE=DATE:20260813
DTSTAMP:20260425T153308
CREATED:20260120T135144Z
LAST-MODIFIED:20260120T135336Z
UID:15665-1786492800-1786579199@www.golfanlage-ullersdorf.de
SUMMARY:Mittwochsbecher powered by MARITIM DRESDEN
DESCRIPTION:MITWOCHSBECHER MARTIM DRESDEN \nMit großer Freude können wir auch in diesem Jahr einen Mittwochsbecher mit der großen Unterstützung vom Martim Dresden durchführen. Wie in den vergangenen Jahren werden Jörg Bacher und sein Team alle Spieler an diesem Tag persönlich begleiten und mit kulinarischen Köstlichkeiten verwöhnen. Wir freuen uns sehr auf diesen Tag und empfehlen euch eine zeitnahe Anmeldung (Exakt 4 Wochen vor dem Turniertag geht das ). \nAusschreibung:   MiBe Maritim 12.08.2026
URL:https://www.golfanlage-ullersdorf.de/event/mittwochsbecher-powered-by-maritim-dresden-2/
CATEGORIES:Turniere
END:VEVENT
BEGIN:VEVENT
DTSTART;VALUE=DATE:20260815
DTEND;VALUE=DATE:20260816
DTSTAMP:20260425T153308
CREATED:20251209T101228Z
LAST-MODIFIED:20251209T101228Z
UID:15570-1786752000-1786838399@www.golfanlage-ullersdorf.de
SUMMARY:Golf Charity Lions & R+V Versicherungen
DESCRIPTION:Golf Charity Lions& R+V 15.08.2026
URL:https://www.golfanlage-ullersdorf.de/event/golf-charity-lions-rv-versicherungen/
CATEGORIES:Turniere
END:VEVENT
BEGIN:VEVENT
DTSTART;VALUE=DATE:20260819
DTEND;VALUE=DATE:20260820
DTSTAMP:20260425T153308
CREATED:20260123T120027Z
LAST-MODIFIED:20260123T120027Z
UID:15676-1787097600-1787183999@www.golfanlage-ullersdorf.de
SUMMARY:Intelligentis & Merkur Privat Bank Trophy
DESCRIPTION:Intelligentis & Merkur Privat Bank Trophy \nEin neuer Name gepaart mit einem bewährten Format wartet in diesem Jahr auf den GC Dresden Ullersdorf. Die beiden Unternehmen werden in diesem Jahr 3 mal zur Teilnahme einladen. Gespielt werden an 2 Terminen 9 Loch im Stableford Modus handicaprelevant und einmal 9 Loch als 3 Schläger Turnier\, dann natürlich nicht handicaprelevant. Besonderheit bei allen Turnieren: Es wird ein Birdiepool ausgespielt. Wer als im Turnier ein ober mehrere Bridies spielt kann fest mit einem Preis rechnen. \nHeute beginnen wir um 16 Uhr mit einem Kanonenstart. Maximal 40 Spieler sind zugelassen. Die Anmeldung geht über die Albatros App (Plätze begrenzt) oder im Clubhaus an der bekannten Tafel. \nWir freuen uns auf 3 spannende Turniere und wünschen den Teilnehmern schon heute viel Erfolg. \nDie Ausschreibung: \nIntelligentis August 2026
URL:https://www.golfanlage-ullersdorf.de/event/intelligentis-merkur-privat-bank-trophy-3/
CATEGORIES:Turniere
END:VEVENT
BEGIN:VEVENT
DTSTART;VALUE=DATE:20260822
DTEND;VALUE=DATE:20260824
DTSTAMP:20260425T153308
CREATED:20251209T101346Z
LAST-MODIFIED:20251209T101632Z
UID:15573-1787356800-1787529599@www.golfanlage-ullersdorf.de
SUMMARY:Golfball Challenge
DESCRIPTION:
URL:https://www.golfanlage-ullersdorf.de/event/golfball-challenge-3/
CATEGORIES:Turniere
END:VEVENT
BEGIN:VEVENT
DTSTART;TZID=Europe/Berlin:20260827T160000
DTEND;TZID=Europe/Berlin:20260827T190000
DTSTAMP:20260425T153308
CREATED:20251209T101751Z
LAST-MODIFIED:20251209T101751Z
UID:15575-1787846400-1787857200@www.golfanlage-ullersdorf.de
SUMMARY:Deutsche Bank Afterwork Cup
DESCRIPTION:Afterwork DB 08 2026
URL:https://www.golfanlage-ullersdorf.de/event/deutsche-bank-afterwork-cup-11/
CATEGORIES:Turniere
END:VEVENT
BEGIN:VEVENT
DTSTART;VALUE=DATE:20260829
DTEND;VALUE=DATE:20260830
DTSTAMP:20260425T153308
CREATED:20251209T101947Z
LAST-MODIFIED:20251209T101947Z
UID:15578-1787961600-1788047999@www.golfanlage-ullersdorf.de
SUMMARY:31. Schwabencup
DESCRIPTION:Schwabencup 29.08.2026
URL:https://www.golfanlage-ullersdorf.de/event/31-schwabencup/
CATEGORIES:Turniere
END:VEVENT
BEGIN:VEVENT
DTSTART;VALUE=DATE:20260906
DTEND;VALUE=DATE:20260907
DTSTAMP:20260425T153308
CREATED:20250107T132428Z
LAST-MODIFIED:20260331T122820Z
UID:15078-1788652800-1788739199@www.golfanlage-ullersdorf.de
SUMMARY:Allianz Lehmann Kids-Golf-Challenge
DESCRIPTION:Unser langjähriges Mitglied Andreas Lehmann unterstützt uns\, nachdem die Lucky 33 Serie Seitens der Allianz \nauf nur wenige Golfanlagen reduziert wurde\, auch in diesem Jahr bei der Durchführung eines Kidscups. \nDie \nAllianz Lehmann Kids-Golf-Challenge \nwird am 06.09. 2026 in Ullersdorf ausgespielt. \n \nDie Turnierbedingungen haben wir an die der letzten Jahre durchgeführten Wettspiele angepasst. \nAusschreibung:Allianz Lehmann Kids Golf Challenge 06.09.26 \n 
URL:https://www.golfanlage-ullersdorf.de/event/lucky-33-3/
CATEGORIES:Turniere
END:VEVENT
BEGIN:VEVENT
DTSTART;TZID=Europe/Berlin:20260907T173000
DTEND;TZID=Europe/Berlin:20260907T203000
DTSTAMP:20260425T153308
CREATED:20251209T102206Z
LAST-MODIFIED:20251209T102206Z
UID:15581-1788802200-1788813000@www.golfanlage-ullersdorf.de
SUMMARY:Sundowner powered by Siganl Iduna
DESCRIPTION:Sundowner 07.09.2026
URL:https://www.golfanlage-ullersdorf.de/event/sundowner-powered-by-siganl-iduna/
CATEGORIES:Turniere
END:VEVENT
BEGIN:VEVENT
DTSTART;VALUE=DATE:20260912
DTEND;VALUE=DATE:20260914
DTSTAMP:20260425T153308
CREATED:20251209T102313Z
LAST-MODIFIED:20251209T102313Z
UID:15584-1789171200-1789343999@www.golfanlage-ullersdorf.de
SUMMARY:Clubmeisterschaften
DESCRIPTION:Clubmeisterschaften 12.+13.09.2026
URL:https://www.golfanlage-ullersdorf.de/event/clubmeisterschaften-7/
CATEGORIES:Turniere
END:VEVENT
BEGIN:VEVENT
DTSTART;VALUE=DATE:20260916
DTEND;VALUE=DATE:20260917
DTSTAMP:20260425T153308
CREATED:20251209T102550Z
LAST-MODIFIED:20260206T113219Z
UID:15587-1789516800-1789603199@www.golfanlage-ullersdorf.de
SUMMARY:Mittwochsbecher powered by BMW Melkus & Pulz
DESCRIPTION:BMW Melkus und Pulz unterstützen uns in diesem Jahr bei dem Mittwochsbecher. Wir freuen uns auf diesen Tag und wünschen allen Teilnehmern schon heute viel Spass und Erfolg beim Spiel. \nMiBe Melkus 16.09.2026
URL:https://www.golfanlage-ullersdorf.de/event/mittwochsbecher-powered-by-bmw-melkus-4/
CATEGORIES:Turniere
END:VEVENT
BEGIN:VEVENT
DTSTART;TZID=Europe/Berlin:20260916T163000
DTEND;TZID=Europe/Berlin:20260916T180000
DTSTAMP:20260425T153308
CREATED:20260410T104902Z
LAST-MODIFIED:20260410T111100Z
UID:15774-1789576200-1789581600@www.golfanlage-ullersdorf.de
SUMMARY:Naturrundgang auf der Golfanlage
DESCRIPTION:Diesen Rundgang bieten wir schon seit vielen Jahren an und freuen uns Ihnen die Golfanlage selbst (bei Nichtgolfern) \nund alles andere aus Sicht der Natur zu zeigen. Wir gehen an diesem Abend über die Golfanlage und fangen das was \nzufällig (Vogelwelt) oder auch geplant zu sehen ist ein. Wir laden unsere Mitglieder\, Gäste\, Anwohner und Interessierte \nein dabei zu sein. Wir teffen uns auf der Clubhausterrasse und gehen dann gemeinsam los. Treffen ist um 16.30 Uhr. \nWir freuen uns auf Sie und einen tollen Abend.
URL:https://www.golfanlage-ullersdorf.de/event/naturrundgang-auf-der-golfanlage-3/
CATEGORIES:Veranstaltungen
END:VEVENT
BEGIN:VEVENT
DTSTART;VALUE=DATE:20260919
DTEND;VALUE=DATE:20260921
DTSTAMP:20260425T153308
CREATED:20251209T102700Z
LAST-MODIFIED:20251209T102700Z
UID:15590-1789776000-1789948799@www.golfanlage-ullersdorf.de
SUMMARY:GVST Mannschaftsmeisterschaften Damen  A + B
DESCRIPTION:
URL:https://www.golfanlage-ullersdorf.de/event/gvst-mannschaftsmeisterschaften-damen-a-b/
CATEGORIES:Turniere
END:VEVENT
BEGIN:VEVENT
DTSTART;TZID=Europe/Berlin:20260924T160000
DTEND;TZID=Europe/Berlin:20260924T190000
DTSTAMP:20260425T153308
CREATED:20251209T102835Z
LAST-MODIFIED:20251209T102835Z
UID:15592-1790265600-1790276400@www.golfanlage-ullersdorf.de
SUMMARY:Deutsche Bank Afterwork Cup
DESCRIPTION:Afterwork DB 09 2026
URL:https://www.golfanlage-ullersdorf.de/event/deutsche-bank-afterwork-cup-12/
CATEGORIES:Turniere
END:VEVENT
BEGIN:VEVENT
DTSTART;VALUE=DATE:20261010
DTEND;VALUE=DATE:20261011
DTSTAMP:20260425T153308
CREATED:20251209T103024Z
LAST-MODIFIED:20251209T103024Z
UID:15595-1791590400-1791676799@www.golfanlage-ullersdorf.de
SUMMARY:Allerletzte Chance
DESCRIPTION:Allerletzte Chance 10.10.2026
URL:https://www.golfanlage-ullersdorf.de/event/allerletzte-chance-4/
CATEGORIES:Turniere
END:VEVENT
BEGIN:VEVENT
DTSTART;TZID=Europe/Berlin:20261014T163000
DTEND;TZID=Europe/Berlin:20261014T180000
DTSTAMP:20260425T153308
CREATED:20260410T104951Z
LAST-MODIFIED:20260410T110542Z
UID:15776-1791995400-1792000800@www.golfanlage-ullersdorf.de
SUMMARY:Naturrundgang auf der Golfanlage
DESCRIPTION:Diesen Rundgang bieten wir schon seit vielen Jahren an und freuen uns Ihnen die Golfanlage selbst (bei Nichtgolfern) \nund alles andere aus Sicht der Natur zu zeigen. Wir gehen an diesem Abend über die Golfanlage und fangen das was \nzufällig (Vogelwelt) oder auch geplant zu sehen ist ein. Wir laden unsere Mitglieder\, Gäste\, Anwohner und Interessierte \nein dabei zu sein. Wir teffen uns auf der Clubhausterrasse und gehen dann gemeinsam los. Treffen ist um 16.30 Uhr. \nWir freuen uns auf Sie und einen tollen Abend.
URL:https://www.golfanlage-ullersdorf.de/event/naturrundgang-auf-der-golfanlage-4/
CATEGORIES:Veranstaltungen
END:VEVENT
BEGIN:VEVENT
DTSTART;VALUE=DATE:20261017
DTEND;VALUE=DATE:20261018
DTSTAMP:20260425T153308
CREATED:20251209T103104Z
LAST-MODIFIED:20251209T103140Z
UID:15598-1792195200-1792281599@www.golfanlage-ullersdorf.de
SUMMARY:Abgolfen & Greenkeepers Rache
DESCRIPTION:Abgolfen&Greenkeepers Rache 17.10.2026
URL:https://www.golfanlage-ullersdorf.de/event/abgolfen-greenkeepers-rache-2/
CATEGORIES:Turniere
END:VEVENT
END:VCALENDAR