BEGIN:VCALENDAR
VERSION:2.0
PRODID:-//Golfanlage Ullersdorf - ECPv5.10.0//NONSGML v1.0//EN
CALSCALE:GREGORIAN
METHOD:PUBLISH
X-WR-CALNAME:Golfanlage Ullersdorf
X-ORIGINAL-URL:https://www.golfanlage-ullersdorf.de
X-WR-CALDESC:Veranstaltungen für Golfanlage Ullersdorf
BEGIN:VTIMEZONE
TZID:Europe/Berlin
BEGIN:DAYLIGHT
TZOFFSETFROM:+0100
TZOFFSETTO:+0200
TZNAME:CEST
DTSTART:20220327T010000
END:DAYLIGHT
BEGIN:STANDARD
TZOFFSETFROM:+0200
TZOFFSETTO:+0100
TZNAME:CET
DTSTART:20221030T010000
END:STANDARD
END:VTIMEZONE
BEGIN:VEVENT
DTSTART;VALUE=DATE:20220605
DTEND;VALUE=DATE:20220606
DTSTAMP:20260421T142824
CREATED:20220125T130753Z
LAST-MODIFIED:20220125T130753Z
UID:13264-1654387200-1654473599@www.golfanlage-ullersdorf.de
SUMMARY:TTS (3) Kids Cup
DESCRIPTION:Die Turnierserie des Landesverband Sachsen Thüringen macht Station in Ullersdorf. Es gilt für die Kinder in den verschiedenen Altersklassen Punkte zu sammeln damit die  Nominierung zur Teilnahme an den Deutschen Meisterschaften sichergestellt ist. \nWir wünschen euch neben dem persönlichen Erfolg ganz viel Spaß und drücken jedem von euch die Daumen !! \nAnmeldungen sind nur über das Sekretariat des GVST möglich !!!
URL:https://www.golfanlage-ullersdorf.de/event/tts-3-kids-cup/
CATEGORIES:Turniere
END:VEVENT
END:VCALENDAR