BEGIN:VCALENDAR
VERSION:2.0
PRODID:-//Golfanlage Ullersdorf - ECPv5.10.0//NONSGML v1.0//EN
CALSCALE:GREGORIAN
METHOD:PUBLISH
X-WR-CALNAME:Golfanlage Ullersdorf
X-ORIGINAL-URL:https://www.golfanlage-ullersdorf.de
X-WR-CALDESC:Veranstaltungen für Golfanlage Ullersdorf
BEGIN:VTIMEZONE
TZID:Europe/Berlin
BEGIN:DAYLIGHT
TZOFFSETFROM:+0100
TZOFFSETTO:+0200
TZNAME:CEST
DTSTART:20240331T010000
END:DAYLIGHT
BEGIN:STANDARD
TZOFFSETFROM:+0200
TZOFFSETTO:+0100
TZNAME:CET
DTSTART:20241027T010000
END:STANDARD
END:VTIMEZONE
BEGIN:VEVENT
DTSTART;TZID=Europe/Berlin:20240916T170000
DTEND;TZID=Europe/Berlin:20240916T193000
DTSTAMP:20260421T104454
CREATED:20220125T120341Z
LAST-MODIFIED:20240105T135524Z
UID:13254-1726506000-1726515000@www.golfanlage-ullersdorf.de
SUMMARY:Sundowner
DESCRIPTION:Heute startet das Turnier schon um 17 Uhr um der beginennden Dunkelheit aus dem Weg zu gehen. Also ACHTUNG bei den Starzeiten….. BITTE INFORMIEREN SIE SICH !!\nIn jedem Fall beschliesst dieses Turnier den Wettspielreigen der Sundowner Serie 2024 in Ullersdorf. Schön das Sie dabei waren und wenn nicht….. die Anmeldung beginnt am 16.08. !! \n \n  \nAUSSCHREIBUNG: \nSundowner 16.09.2024
URL:https://www.golfanlage-ullersdorf.de/event/sundowner-9/
CATEGORIES:Turniere
END:VEVENT
END:VCALENDAR