BEGIN:VCALENDAR
VERSION:2.0
PRODID:-//Golfanlage Ullersdorf - ECPv5.10.0//NONSGML v1.0//EN
CALSCALE:GREGORIAN
METHOD:PUBLISH
X-WR-CALNAME:Golfanlage Ullersdorf
X-ORIGINAL-URL:https://www.golfanlage-ullersdorf.de
X-WR-CALDESC:Veranstaltungen für Golfanlage Ullersdorf
BEGIN:VTIMEZONE
TZID:Europe/Berlin
BEGIN:DAYLIGHT
TZOFFSETFROM:+0100
TZOFFSETTO:+0200
TZNAME:CEST
DTSTART:20190331T010000
END:DAYLIGHT
BEGIN:STANDARD
TZOFFSETFROM:+0200
TZOFFSETTO:+0100
TZNAME:CET
DTSTART:20191027T010000
END:STANDARD
END:VTIMEZONE
BEGIN:VEVENT
DTSTART;TZID=Europe/Berlin:20190426T160000
DTEND;TZID=Europe/Berlin:20190426T160000
DTSTAMP:20260421T203413
CREATED:20190103T121928Z
LAST-MODIFIED:20190103T131211Z
UID:9232-1556294400-1556294400@www.golfanlage-ullersdorf.de
SUMMARY:Platzreife 2019 KURS 1
DESCRIPTION:Kurs 1\n26.04.-27.05.2019\n\n\nFr.\n26.04.\n16-19 Uhr\nGK 1\n\n\nFr.\n03.05.\n16-19 Uhr\nGK 2\n\n\nMo.\n06.05.\n16:00-\n19:00 Uhr\nTheorie 1\n\n\nTheorie 2\n\n\nFr.\n10.05.\n16-19 Uhr\nGK 3\n\n\nFr.\n17.05.\n16-19 Uhr\nAK 1\n\n\nMo.\n20.05.\n16-19 Uhr\nFreies Spiel\n\n\nFr.\n24.05.\n16-19 Uhr\nAK 2\n\n\nMo.\n27.05.\n16-19 Uhr\nPrüfung
URL:https://www.golfanlage-ullersdorf.de/event/platzreifekurs-2019-kurs-1/2019-04-26/
CATEGORIES:Veranstaltungen
END:VEVENT
END:VCALENDAR