BEGIN:VCALENDAR
VERSION:2.0
PRODID:-//Golfanlage Ullersdorf - ECPv5.10.0//NONSGML v1.0//EN
CALSCALE:GREGORIAN
METHOD:PUBLISH
X-WR-CALNAME:Golfanlage Ullersdorf
X-ORIGINAL-URL:https://www.golfanlage-ullersdorf.de
X-WR-CALDESC:Veranstaltungen für Golfanlage Ullersdorf
BEGIN:VTIMEZONE
TZID:Europe/Berlin
BEGIN:DAYLIGHT
TZOFFSETFROM:+0100
TZOFFSETTO:+0200
TZNAME:CEST
DTSTART:20190331T010000
END:DAYLIGHT
BEGIN:STANDARD
TZOFFSETFROM:+0200
TZOFFSETTO:+0100
TZNAME:CET
DTSTART:20191027T010000
END:STANDARD
END:VTIMEZONE
BEGIN:VEVENT
DTSTART;TZID=Europe/Berlin:20190912T090000
DTEND;TZID=Europe/Berlin:20190912T120000
DTSTAMP:20260422T181028
CREATED:20190103T125647Z
LAST-MODIFIED:20190103T125647Z
UID:9256-1568278800-1568289600@www.golfanlage-ullersdorf.de
SUMMARY:Platzreife 2019 KURS 12
DESCRIPTION:Kurs 12\n12.10.-27.10.2019\n\n\nSa.\n12.10.\n9-12 Uhr\nGK 1\n\n\nSo.\n13.10.\n9-12 Uhr /\n13-16 Uhr\nGK 2\n\n\nTheorie 1\n\n\nTheorie 2\n\n\nSa.\n19.10.\n9-12 Uhr\nGK 3\n\n\nSo.\n20.10.\n9-12 Uhr\nAK 1\n\n\nSa.\n26.10.\n9-12 Uhr /\n13-16 Uhr\nFreies Spiel\n\n\nAK 2\n\n\nSo.\n27.10.\n9-12 Uhr\nPrüfung
URL:https://www.golfanlage-ullersdorf.de/event/platzreife-2019-kurs-12/
CATEGORIES:Veranstaltungen
END:VEVENT
END:VCALENDAR