BEGIN:VCALENDAR
VERSION:2.0
PRODID:-//Golfanlage Ullersdorf - ECPv5.10.0//NONSGML v1.0//EN
CALSCALE:GREGORIAN
METHOD:PUBLISH
X-WR-CALNAME:Golfanlage Ullersdorf
X-ORIGINAL-URL:https://www.golfanlage-ullersdorf.de
X-WR-CALDESC:Veranstaltungen für Golfanlage Ullersdorf
BEGIN:VTIMEZONE
TZID:Europe/Berlin
BEGIN:DAYLIGHT
TZOFFSETFROM:+0100
TZOFFSETTO:+0200
TZNAME:CEST
DTSTART:20220327T010000
END:DAYLIGHT
BEGIN:STANDARD
TZOFFSETFROM:+0200
TZOFFSETTO:+0100
TZNAME:CET
DTSTART:20221030T010000
END:STANDARD
END:VTIMEZONE
BEGIN:VEVENT
DTSTART;TZID=Europe/Berlin:20220622T163000
DTEND;TZID=Europe/Berlin:20220622T183000
DTSTAMP:20260419T181315
CREATED:20220107T141458Z
LAST-MODIFIED:20220107T141458Z
UID:13074-1655915400-1655922600@www.golfanlage-ullersdorf.de
SUMMARY:Nabu Rundgang
DESCRIPTION:Auch in diesem Jahr bieten wir die Teilnahme an den Rundgängen mit dem Naturschutzbund den Mitgliedern\, Gästen und allen Interessierten an. Wir starten um 16.30 Uhr am Clubhaus und sind max. 2 Stunden später wieder zurück. Wir beobachten die Flora und Fauna auf der Golfanlage und wer Erläuterungen zu Golfanlage möchte\, bekommt die natürlich aus ersten Hand. \n \nWir freuen uns über Ihre Teilnahme !!!
URL:https://www.golfanlage-ullersdorf.de/event/nabu-rundgang-2/
CATEGORIES:Veranstaltungen
END:VEVENT
END:VCALENDAR