BEGIN:VCALENDAR
VERSION:2.0
PRODID:-//Golfanlage Ullersdorf - ECPv5.10.0//NONSGML v1.0//EN
CALSCALE:GREGORIAN
METHOD:PUBLISH
X-WR-CALNAME:Golfanlage Ullersdorf
X-ORIGINAL-URL:https://www.golfanlage-ullersdorf.de
X-WR-CALDESC:Veranstaltungen für Golfanlage Ullersdorf
BEGIN:VTIMEZONE
TZID:Europe/Berlin
BEGIN:DAYLIGHT
TZOFFSETFROM:+0100
TZOFFSETTO:+0200
TZNAME:CEST
DTSTART:20210328T010000
END:DAYLIGHT
BEGIN:STANDARD
TZOFFSETFROM:+0200
TZOFFSETTO:+0100
TZNAME:CET
DTSTART:20211031T010000
END:STANDARD
END:VTIMEZONE
BEGIN:VEVENT
DTSTART;VALUE=DATE:20210923
DTEND;VALUE=DATE:20210924
DTSTAMP:20260421T214615
CREATED:20210107T103007Z
LAST-MODIFIED:20210903T122235Z
UID:11872-1632355200-1632441599@www.golfanlage-ullersdorf.de
SUMMARY:Mitgliederversammlung Golfclub
DESCRIPTION:Pandemiebedingt konnten im letzten Jahr und in diesem Frühjahr keine Mitgliederversammlungen statfinden. Der Vorstand des Golfclubs hat nun beschlossen \ndie Versammlung 2021 am 23.09.2021 als Präsenzveranstaltung nachzuholen. Die Einladungen sind per E- Mail an die Mitglieder versendet worden. Die Tagesordnung \nfinden sie hier: \n                                                             Einladung Mitgliederversammlung GC Ullersdorf 2021 \n  \nBitte beachten Sie\, dass dieses Veranstaltung unter den Bedingungen der gültigen Coroanverordnung (Sachsen) durchgeführt wird. Nach (Stand heute 03.09.2021)  \naktuellem Stand sind die 3 G Regeln zu beachten. Der Nachweis einer Impfung\, Genesung oder eines negativen Testergebnisses ist an diesem Tag zu erbringen. \n 
URL:https://www.golfanlage-ullersdorf.de/event/mitgliederversammlung-golfclub/
CATEGORIES:Veranstaltungen
END:VEVENT
END:VCALENDAR