BEGIN:VCALENDAR
VERSION:2.0
PRODID:-//Golfanlage Ullersdorf - ECPv5.10.0//NONSGML v1.0//EN
CALSCALE:GREGORIAN
METHOD:PUBLISH
X-WR-CALNAME:Golfanlage Ullersdorf
X-ORIGINAL-URL:https://www.golfanlage-ullersdorf.de
X-WR-CALDESC:Veranstaltungen für Golfanlage Ullersdorf
BEGIN:VTIMEZONE
TZID:Europe/Berlin
BEGIN:DAYLIGHT
TZOFFSETFROM:+0100
TZOFFSETTO:+0200
TZNAME:CEST
DTSTART:20210328T010000
END:DAYLIGHT
BEGIN:STANDARD
TZOFFSETFROM:+0200
TZOFFSETTO:+0100
TZNAME:CET
DTSTART:20211031T010000
END:STANDARD
END:VTIMEZONE
BEGIN:VEVENT
DTSTART;VALUE=DATE:20210424
DTEND;VALUE=DATE:20210425
DTSTAMP:20260422T110702
CREATED:20210107T111202Z
LAST-MODIFIED:20210419T062540Z
UID:11883-1619222400-1619308799@www.golfanlage-ullersdorf.de
SUMMARY:Members & Friends (ABGESAGT)
DESCRIPTION:Trotz / oder vielleicht wegen der Pandemie hat es in 2020 eine riesige Nachfrage von Nichtgolfern gegeben\, sich mit dem Golfsport zu befassen. Das freut uns uns für die Sportart und die damit wachsende Akzeptanz. \nDarum wollen wir in diesem Jahr all denen die sich an Sie\, unsere Mitglieder\, gewendet haben\, die Chance geben sich bei einem Turnier “auszuprobieren”. Wie in den letzten Jahren auch wird es so sein\, das der Golfer (Member) den Ball vom Abschlag bis aufs Grün befördert 🙂 und der (noch) Nichtgolfer (Friend) ihn dann putten MUSS. \nWir freuen uns auf eine rege Beteiligung und viele glückliche Gesichter 🙂 \n \nAusschreibung: Bitte informieren Sie sich über Startform und Startzeit tagesaktuell !!!! \nMembers & Friends 24_04_2021
URL:https://www.golfanlage-ullersdorf.de/event/members-friends-3/
CATEGORIES:Turniere
END:VEVENT
END:VCALENDAR