BEGIN:VCALENDAR
VERSION:2.0
PRODID:-//Golfanlage Ullersdorf - ECPv5.10.0//NONSGML v1.0//EN
CALSCALE:GREGORIAN
METHOD:PUBLISH
X-WR-CALNAME:Golfanlage Ullersdorf
X-ORIGINAL-URL:https://www.golfanlage-ullersdorf.de
X-WR-CALDESC:Veranstaltungen für Golfanlage Ullersdorf
BEGIN:VTIMEZONE
TZID:Europe/Berlin
BEGIN:DAYLIGHT
TZOFFSETFROM:+0100
TZOFFSETTO:+0200
TZNAME:CEST
DTSTART:20220327T010000
END:DAYLIGHT
BEGIN:STANDARD
TZOFFSETFROM:+0200
TZOFFSETTO:+0100
TZNAME:CET
DTSTART:20221030T010000
END:STANDARD
END:VTIMEZONE
BEGIN:VEVENT
DTSTART;VALUE=DATE:20220501
DTEND;VALUE=DATE:20220502
DTSTAMP:20260421T161901
CREATED:20220107T134421Z
LAST-MODIFIED:20220112T131429Z
UID:13068-1651363200-1651449599@www.golfanlage-ullersdorf.de
SUMMARY:Maibaumcup
DESCRIPTION:Dieses Turnier darf nicht im Jahreskalender fehlen …… unser Maibaumcup ……….. \nBei hoffentlich passendem Wetter wird der Maibaum wieder aufgestellt \n \nund die Teilnehmer des ersten handicapralevanten Turniers werden versuchen mit möglichst wenig Schlägen auszukommen 🙂 \nSicher werden die Tagessieger auch 2022 mit frischen Grünen Preisen bedacht :-)\, passend zum bevorstehenden Mai. \nVIEL SPASS  ! ! ! \nAUSSCHREIBUNG: \nMaibaumcup 01_05_2022
URL:https://www.golfanlage-ullersdorf.de/event/maibaumcup-2/
CATEGORIES:Turniere
END:VEVENT
END:VCALENDAR