BEGIN:VCALENDAR
VERSION:2.0
PRODID:-//Golfanlage Ullersdorf - ECPv5.10.0//NONSGML v1.0//EN
CALSCALE:GREGORIAN
METHOD:PUBLISH
X-WR-CALNAME:Golfanlage Ullersdorf
X-ORIGINAL-URL:https://www.golfanlage-ullersdorf.de
X-WR-CALDESC:Veranstaltungen für Golfanlage Ullersdorf
BEGIN:VTIMEZONE
TZID:Europe/Berlin
BEGIN:DAYLIGHT
TZOFFSETFROM:+0100
TZOFFSETTO:+0200
TZNAME:CEST
DTSTART:20190331T010000
END:DAYLIGHT
BEGIN:STANDARD
TZOFFSETFROM:+0200
TZOFFSETTO:+0100
TZNAME:CET
DTSTART:20191027T010000
END:STANDARD
END:VTIMEZONE
BEGIN:VEVENT
DTSTART;TZID=Europe/Berlin:20190504T090000
DTEND;TZID=Europe/Berlin:20190504T170000
DTSTAMP:20260421T104731
CREATED:20181211T143322Z
LAST-MODIFIED:20181212T134907Z
UID:9008-1556960400-1556989200@www.golfanlage-ullersdorf.de
SUMMARY:Lucky 33 Jugendturnier
DESCRIPTION:Auch in diesem Jahr unterstütz uns die Allianz Agentur Andreas Lehmann bei der Durchführung des Lucky 33 Jugendturniers in Ullersdorf
URL:https://www.golfanlage-ullersdorf.de/event/lucky-33-jugendturnier/
CATEGORIES:Turniere
END:VEVENT
END:VCALENDAR