BEGIN:VCALENDAR
VERSION:2.0
PRODID:-//Golfanlage Ullersdorf - ECPv5.10.0//NONSGML v1.0//EN
CALSCALE:GREGORIAN
METHOD:PUBLISH
X-WR-CALNAME:Golfanlage Ullersdorf
X-ORIGINAL-URL:https://www.golfanlage-ullersdorf.de
X-WR-CALDESC:Veranstaltungen für Golfanlage Ullersdorf
BEGIN:VTIMEZONE
TZID:Europe/Berlin
BEGIN:DAYLIGHT
TZOFFSETFROM:+0100
TZOFFSETTO:+0200
TZNAME:CEST
DTSTART:20230326T010000
END:DAYLIGHT
BEGIN:STANDARD
TZOFFSETFROM:+0200
TZOFFSETTO:+0100
TZNAME:CET
DTSTART:20231029T010000
END:STANDARD
END:VTIMEZONE
BEGIN:VEVENT
DTSTART;VALUE=DATE:20230603
DTEND;VALUE=DATE:20230604
DTSTAMP:20260421T112757
CREATED:20221223T102058Z
LAST-MODIFIED:20230516T100952Z
UID:13708-1685750400-1685836799@www.golfanlage-ullersdorf.de
SUMMARY:Kinder Organspende Turnier 2023
DESCRIPTION:Heute ist ein wichtiger Tag weil wir nicht oft genug darauf hinweisen können das es wichtig ist sich hier zu engagieren. \nDas Engagement beim KIO Turnier besteht zunächst aus der Teilnahme und damit der Sicherung der finanzielen Unterstützung \nfür den guten Zweck\, denn der große Anteil aus der Startgebühr geht der Kinder Organspende zu.  Wir denken das ist schon Grund \ngenug sich beim 4 er Scramble anzumelden und dabei zu sein. \nAusschreibung: \nKIO Organspende 03_06_2023 \n 
URL:https://www.golfanlage-ullersdorf.de/event/kinder-organspende-turnier-2023/
CATEGORIES:Turniere
END:VEVENT
END:VCALENDAR