BEGIN:VCALENDAR
VERSION:2.0
PRODID:-//Golfanlage Ullersdorf - ECPv5.10.0//NONSGML v1.0//EN
CALSCALE:GREGORIAN
METHOD:PUBLISH
X-WR-CALNAME:Golfanlage Ullersdorf
X-ORIGINAL-URL:https://www.golfanlage-ullersdorf.de
X-WR-CALDESC:Veranstaltungen für Golfanlage Ullersdorf
BEGIN:VTIMEZONE
TZID:Europe/Berlin
BEGIN:DAYLIGHT
TZOFFSETFROM:+0100
TZOFFSETTO:+0200
TZNAME:CEST
DTSTART:20210328T010000
END:DAYLIGHT
BEGIN:STANDARD
TZOFFSETFROM:+0200
TZOFFSETTO:+0100
TZNAME:CET
DTSTART:20211031T010000
END:STANDARD
END:VTIMEZONE
BEGIN:VEVENT
DTSTART;VALUE=DATE:20211002
DTEND;VALUE=DATE:20211003
DTSTAMP:20260422T013530
CREATED:20210111T123708Z
LAST-MODIFIED:20210111T123708Z
UID:12061-1633132800-1633219199@www.golfanlage-ullersdorf.de
SUMMARY:Jugendclubmeisterschaften
DESCRIPTION:Es sind die Meisterschaften für ALLE Jugendlichen des Golfclubs Dresden Ullersdorf. Wir haben diesen Tag aber als offene Meisterschaften deklariert\, damit auch \nanderen Jugendliche teilnehmen können. Natürlich können Gäste an diesem Tag nicht Jugendclubmeister werden wenn sie nicht Mitglied bei uns sind aber im \nHCPI kann man sich verbessern. \nViel Spaß euch !! \n \nAusschreibung: Bitte informieren Sie sich über Startmodus und Startzeiten tagesaktuell im Golfclub. \nJugendclubmeisterschaften 02_10_2021
URL:https://www.golfanlage-ullersdorf.de/event/jugendclubmeisterschaften-3/
CATEGORIES:Turniere
END:VEVENT
END:VCALENDAR