BEGIN:VCALENDAR
VERSION:2.0
PRODID:-//Golfanlage Ullersdorf - ECPv5.10.0//NONSGML v1.0//EN
CALSCALE:GREGORIAN
METHOD:PUBLISH
X-WR-CALNAME:Golfanlage Ullersdorf
X-ORIGINAL-URL:https://www.golfanlage-ullersdorf.de
X-WR-CALDESC:Veranstaltungen für Golfanlage Ullersdorf
BEGIN:VTIMEZONE
TZID:Europe/Berlin
BEGIN:DAYLIGHT
TZOFFSETFROM:+0100
TZOFFSETTO:+0200
TZNAME:CEST
DTSTART:20250330T010000
END:DAYLIGHT
BEGIN:STANDARD
TZOFFSETFROM:+0200
TZOFFSETTO:+0100
TZNAME:CET
DTSTART:20251026T010000
END:STANDARD
END:VTIMEZONE
BEGIN:VEVENT
DTSTART;VALUE=DATE:20250816
DTEND;VALUE=DATE:20250817
DTSTAMP:20260421T105533
CREATED:20250107T083316Z
LAST-MODIFIED:20250714T102108Z
UID:15047-1755302400-1755388799@www.golfanlage-ullersdorf.de
SUMMARY:Golfcharity Lions Club Lusatia & R+V Versicherungen
DESCRIPTION:Unter dem Motto ” Spass am Spiel und Gutes tun” veranstaltet der Lions Club Lusatia Bautzen gemeinsam mit der R & V Versicherung auch in diesem Jahr ein Charity Golfturnier in Ullersdorf. Hier steht neben dem sportlichen Ziel\, das alle Spieler verfolgen\, auch der Charity Gedanke. In diesem Jahr findet das Turnier am 16. August statt. Natürlich sind auch (noch) Nichtgolfer angesprochen\, die sich in einem ersten Versuch (unter professioneller Anleitung) mit dem Golfsport auseinander setzen können. Wer also schon immer mal versuchen wollte den Tiger Woods nachzuahmen…… am 16.08.25 geht das in Ullersdorf!! \n  \n \nGolf Charity Lions& R+V 16.08.2025
URL:https://www.golfanlage-ullersdorf.de/event/golfcharity-lions-club-lusatia-rv-versicherungen/
CATEGORIES:Turniere
END:VEVENT
END:VCALENDAR