BEGIN:VCALENDAR
VERSION:2.0
PRODID:-//Golfanlage Ullersdorf - ECPv5.10.0//NONSGML v1.0//EN
CALSCALE:GREGORIAN
METHOD:PUBLISH
X-WR-CALNAME:Golfanlage Ullersdorf
X-ORIGINAL-URL:https://www.golfanlage-ullersdorf.de
X-WR-CALDESC:Veranstaltungen für Golfanlage Ullersdorf
BEGIN:VTIMEZONE
TZID:Europe/Berlin
BEGIN:DAYLIGHT
TZOFFSETFROM:+0100
TZOFFSETTO:+0200
TZNAME:CEST
DTSTART:20190331T010000
END:DAYLIGHT
BEGIN:STANDARD
TZOFFSETFROM:+0200
TZOFFSETTO:+0100
TZNAME:CET
DTSTART:20191027T010000
END:STANDARD
END:VTIMEZONE
BEGIN:VEVENT
DTSTART;TZID=Europe/Berlin:20190723T090000
DTEND;TZID=Europe/Berlin:20190723T170000
DTSTAMP:20260421T104901
CREATED:20190222T150156Z
LAST-MODIFIED:20190222T150156Z
UID:10195-1563872400-1563901200@www.golfanlage-ullersdorf.de
SUMMARY:Erzgebirgstour
DESCRIPTION:Auch 2019 findet ein Spieltag der Erzgebirgstour auf der Golfanlage Ullersdorf statt. Viele Freunde aus unserem Nachbarland Tschechien besuchen uns an diesem Tag unter der Leitung von Herrn Vacek\, der sich um die Organisation kümmert. \nAuf einen tollen Golftag !!! Hezká hra  oder Schönes Spiel wie wir sagen würden 🙂 \n 
URL:https://www.golfanlage-ullersdorf.de/event/erzgebirgstour/
CATEGORIES:Turniere
END:VEVENT
END:VCALENDAR