BEGIN:VCALENDAR
VERSION:2.0
PRODID:-//Golfanlage Ullersdorf - ECPv5.10.0//NONSGML v1.0//EN
CALSCALE:GREGORIAN
METHOD:PUBLISH
X-WR-CALNAME:Golfanlage Ullersdorf
X-ORIGINAL-URL:https://www.golfanlage-ullersdorf.de
X-WR-CALDESC:Veranstaltungen für Golfanlage Ullersdorf
BEGIN:VTIMEZONE
TZID:Europe/Berlin
BEGIN:DAYLIGHT
TZOFFSETFROM:+0100
TZOFFSETTO:+0200
TZNAME:CEST
DTSTART:20190331T010000
END:DAYLIGHT
BEGIN:STANDARD
TZOFFSETFROM:+0200
TZOFFSETTO:+0100
TZNAME:CET
DTSTART:20191027T010000
END:STANDARD
END:VTIMEZONE
BEGIN:VEVENT
DTSTART;VALUE=DATE:20190907
DTEND;VALUE=DATE:20190908
DTSTAMP:20260422T160023
CREATED:20181221T131258Z
LAST-MODIFIED:20190903T091925Z
UID:9218-1567814400-1567900799@www.golfanlage-ullersdorf.de
SUMMARY:Dresden International School Turnier
DESCRIPTION:Dies ist der Tag der internationalen Schule\, ihren Schülern\, Lehrern\, den Eltern und allen Gästen die sich an diesem Tag zum Einen dem Golfen widmen wollen und zum Anderen mit ihrer Teilnahme den Guten Zweck unterstützen wollen. Seit vielen Jahren gibt es diese Veranstaltung die immer zum Wohle der Schule /Schüler Geld für Projekte sammelt um diese dann aus der Planung in die Tat umzusetzen. Wir sind natürlich da an diesem Tag\, SIE AUCH ??? \n \nAusschreibung \n20190907 DIS
URL:https://www.golfanlage-ullersdorf.de/event/dresden-international-school-turnier/
CATEGORIES:Turniere
END:VEVENT
END:VCALENDAR