BEGIN:VCALENDAR
VERSION:2.0
PRODID:-//Golfanlage Ullersdorf - ECPv5.10.0//NONSGML v1.0//EN
CALSCALE:GREGORIAN
METHOD:PUBLISH
X-WR-CALNAME:Golfanlage Ullersdorf
X-ORIGINAL-URL:https://www.golfanlage-ullersdorf.de
X-WR-CALDESC:Veranstaltungen für Golfanlage Ullersdorf
BEGIN:VTIMEZONE
TZID:Europe/Berlin
BEGIN:DAYLIGHT
TZOFFSETFROM:+0100
TZOFFSETTO:+0200
TZNAME:CEST
DTSTART:20190331T010000
END:DAYLIGHT
BEGIN:STANDARD
TZOFFSETFROM:+0200
TZOFFSETTO:+0100
TZNAME:CET
DTSTART:20191027T010000
END:STANDARD
END:VTIMEZONE
BEGIN:VEVENT
DTSTART;VALUE=DATE:20190721
DTEND;VALUE=DATE:20190722
DTSTAMP:20260421T161927
CREATED:20181219T143356Z
LAST-MODIFIED:20181219T143356Z
UID:9166-1563667200-1563753599@www.golfanlage-ullersdorf.de
SUMMARY:DGL Heimspieltag
DESCRIPTION:Nach dem Abstieg der Herrenmannschaft aus der 2. Bundesliga müssen sich die Jungs um Trainer Marcus Lindner nun in der Regionalliga beweisen. Kein einfaches Unterfangen\, zumal die Reisen ähnlich weit oder weiter sind als im letzten Jahr\, als wir 3 x nach Hamburg mussten. In diesem Jahr kommen die Gruppengegner aus Bayern. Heute nun ist für die Herren und die Damen (Gruppenliga) der angesetzte Heimspieltag und wer als Zuschauer\, Caddy\, Helfer der Spielleitung oder Starter dabei sein möchte ist herzlich willkommen. \nWir drücken unseren beiden Teams fest die Daumen
URL:https://www.golfanlage-ullersdorf.de/event/dgl-heimspieltag/
CATEGORIES:Turniere
END:VEVENT
END:VCALENDAR