BEGIN:VCALENDAR
VERSION:2.0
PRODID:-//Golfanlage Ullersdorf - ECPv5.10.0//NONSGML v1.0//EN
CALSCALE:GREGORIAN
METHOD:PUBLISH
X-WR-CALNAME:Golfanlage Ullersdorf
X-ORIGINAL-URL:https://www.golfanlage-ullersdorf.de
X-WR-CALDESC:Veranstaltungen für Golfanlage Ullersdorf
BEGIN:VTIMEZONE
TZID:Europe/Berlin
BEGIN:DAYLIGHT
TZOFFSETFROM:+0100
TZOFFSETTO:+0200
TZNAME:CEST
DTSTART:20210328T010000
END:DAYLIGHT
BEGIN:STANDARD
TZOFFSETFROM:+0200
TZOFFSETTO:+0100
TZNAME:CET
DTSTART:20211031T010000
END:STANDARD
END:VTIMEZONE
BEGIN:VEVENT
DTSTART;VALUE=DATE:20210619
DTEND;VALUE=DATE:20210620
DTSTAMP:20260425T153044
CREATED:20210108T075709Z
LAST-MODIFIED:20210618T102349Z
UID:11965-1624060800-1624147199@www.golfanlage-ullersdorf.de
SUMMARY:BVMW Business Golfcup
DESCRIPTION:Der Bundesverband Mittelständische Wirtschaft (BVMW) verbirgt sich hinter diesem Kürzel. \nWer da immer noch nicht so ganz genau weiss was das ist\, der spricht mit Dr. Volker Helbig\, \ndenn der ist der Mann\, der sich neben Golf vor allem um den BVMW kümmert. \nHeute aber steht Golf im Focus von Volker Helbig  (https://www.bvmw.de/ansprechpartner/dr-volker-helbig/ )\, \ndenn die 3. Ausgabe des BVMW Business Golfcups steht auf dem Turnierkalender. \n \nAusschreibung: \nBVMW Golfcup 19_06_2021 \nACHTUNG:  KANONENSTART UM 10.00 UHR !!!!!!
URL:https://www.golfanlage-ullersdorf.de/event/bvmw-business-golfcup/
CATEGORIES:Turniere
END:VEVENT
END:VCALENDAR