BEGIN:VCALENDAR
VERSION:2.0
PRODID:-//Golfanlage Ullersdorf - ECPv5.10.0//NONSGML v1.0//EN
CALSCALE:GREGORIAN
METHOD:PUBLISH
X-WR-CALNAME:Golfanlage Ullersdorf
X-ORIGINAL-URL:https://www.golfanlage-ullersdorf.de
X-WR-CALDESC:Veranstaltungen für Golfanlage Ullersdorf
BEGIN:VTIMEZONE
TZID:Europe/Berlin
BEGIN:DAYLIGHT
TZOFFSETFROM:+0100
TZOFFSETTO:+0200
TZNAME:CEST
DTSTART:20190331T010000
END:DAYLIGHT
BEGIN:STANDARD
TZOFFSETFROM:+0200
TZOFFSETTO:+0100
TZNAME:CET
DTSTART:20191027T010000
END:STANDARD
END:VTIMEZONE
BEGIN:VEVENT
DTSTART;TZID=Europe/Berlin:20191225T100000
DTEND;TZID=Europe/Berlin:20191225T190000
DTSTAMP:20260421T144539
CREATED:20191206T133839Z
LAST-MODIFIED:20191206T134151Z
UID:10834-1577268000-1577300400@www.golfanlage-ullersdorf.de
SUMMARY:1. Weihnachtsfeiertag ist geöffnet !!!
DESCRIPTION:Am 1. Weihnachtsfeiertag wollen wir den Hausfrauen / Hausmännern das Kochen ersparen und haben ab Mittags geöffnet !!! Ob Mittagsessen oder zum Kaffee (mit hausgebackenem Kuchen ) wir freuen uns auf euch !!! \nUnd vielleicht hat der Weihnachtsmann auch eine Überraschung für euch hinterlassen !! \nBitte unbedingt Tisch reservieren !!!
URL:https://www.golfanlage-ullersdorf.de/event/1-weihnachtsfeiertag-ist-geoeffnet/
CATEGORIES:Veranstaltungen
END:VEVENT
END:VCALENDAR